BEGIN:VCALENDAR
VERSION:2.0
PRODID:-//EF ANIMATION - ECPv6.11.2.1//NONSGML v1.0//EN
CALSCALE:GREGORIAN
METHOD:PUBLISH
X-WR-CALNAME:EF ANIMATION
X-ORIGINAL-URL:https://efanimation.fr
X-WR-CALDESC:Évènements pour EF ANIMATION
REFRESH-INTERVAL;VALUE=DURATION:PT1H
X-Robots-Tag:noindex
X-PUBLISHED-TTL:PT1H
BEGIN:VTIMEZONE
TZID:Europe/Paris
BEGIN:DAYLIGHT
TZOFFSETFROM:+0100
TZOFFSETTO:+0200
TZNAME:CEST
DTSTART:20250330T010000
END:DAYLIGHT
BEGIN:STANDARD
TZOFFSETFROM:+0200
TZOFFSETTO:+0100
TZNAME:CET
DTSTART:20251026T010000
END:STANDARD
END:VTIMEZONE
BEGIN:VEVENT
DTSTART;TZID=Europe/Paris:20250614T130000
DTEND;TZID=Europe/Paris:20250615T063000
DTSTAMP:20260421T141910
CREATED:20250506T203727Z
LAST-MODIFIED:20250506T203727Z
UID:2157-1749906000-1749969000@efanimation.fr
SUMMARY:MARIAGE CHATEAU DE ST GEORGES SUR MOULON
DESCRIPTION:
URL:https://efanimation.fr/event/mariage-chateau-de-st-georges-sur-moulon/
END:VEVENT
END:VCALENDAR